BEGIN:VCALENDAR
VERSION:2.0
PRODID:-//ritzy* - ECPv6.15.16//NONSGML v1.0//EN
CALSCALE:GREGORIAN
METHOD:PUBLISH
X-WR-CALNAME:ritzy*
X-ORIGINAL-URL:https://www.ritzy.ch
X-WR-CALDESC:Veranstaltungen für ritzy*
REFRESH-INTERVAL;VALUE=DURATION:PT1H
X-Robots-Tag:noindex
X-PUBLISHED-TTL:PT1H
BEGIN:VTIMEZONE
TZID:Europe/Zurich
BEGIN:DAYLIGHT
TZOFFSETFROM:+0100
TZOFFSETTO:+0200
TZNAME:CEST
DTSTART:20250330T010000
END:DAYLIGHT
BEGIN:STANDARD
TZOFFSETFROM:+0200
TZOFFSETTO:+0100
TZNAME:CET
DTSTART:20251026T010000
END:STANDARD
BEGIN:DAYLIGHT
TZOFFSETFROM:+0100
TZOFFSETTO:+0200
TZNAME:CEST
DTSTART:20260329T010000
END:DAYLIGHT
BEGIN:STANDARD
TZOFFSETFROM:+0200
TZOFFSETTO:+0100
TZNAME:CET
DTSTART:20261025T010000
END:STANDARD
BEGIN:DAYLIGHT
TZOFFSETFROM:+0100
TZOFFSETTO:+0200
TZNAME:CEST
DTSTART:20270328T010000
END:DAYLIGHT
BEGIN:STANDARD
TZOFFSETFROM:+0200
TZOFFSETTO:+0100
TZNAME:CET
DTSTART:20271031T010000
END:STANDARD
END:VTIMEZONE
BEGIN:VEVENT
DTSTART;TZID=Europe/Zurich:20260423T094500
DTEND;TZID=Europe/Zurich:20260423T170000
DTSTAMP:20260421T185251
CREATED:20260106T141919Z
LAST-MODIFIED:20260421T161331Z
UID:10000492-1776937500-1776963600@www.ritzy.ch
SUMMARY:KOPAS Arbeitssicherheit
DESCRIPTION:Nach dem Besuch dieses Kurses können Sie ein Konzept zur Förderung des Arbeitssicherheit und der Gesundheit in Ihrem Betrieb erstellen. Sie lernen verschiedene Gefahren und dazu mögliche Antworten zur Förderung der Arbeitssicherheit kennen. Mit wenig Aufwand sind Sie auf dem aktuellsten Stand der Vorschriften zur Arbeitssicherheit.
URL:https://www.ritzy.ch/course/arbeitssicherheit/
LOCATION:Visp\, Saal HES SO\, Bahnhofplatz 1b\, 3930 Visp\, Switzerland
CATEGORIES:Sicherheit & Hygiene
ATTACH;FMTTYPE=image/png:https://www.ritzy.ch/wp-content/uploads/2026/01/ArbeitssicherheitFILTER.png
END:VEVENT
END:VCALENDAR