BEGIN:VCALENDAR
VERSION:2.0
PRODID:-//ritzy* - ECPv6.15.16//NONSGML v1.0//EN
CALSCALE:GREGORIAN
METHOD:PUBLISH
X-ORIGINAL-URL:https://www.ritzy.ch
X-WR-CALDESC:Veranstaltungen für ritzy*
REFRESH-INTERVAL;VALUE=DURATION:PT1H
X-Robots-Tag:noindex
X-PUBLISHED-TTL:PT1H
BEGIN:VTIMEZONE
TZID:Europe/Zurich
BEGIN:DAYLIGHT
TZOFFSETFROM:+0100
TZOFFSETTO:+0200
TZNAME:CEST
DTSTART:20250330T010000
END:DAYLIGHT
BEGIN:STANDARD
TZOFFSETFROM:+0200
TZOFFSETTO:+0100
TZNAME:CET
DTSTART:20251026T010000
END:STANDARD
BEGIN:DAYLIGHT
TZOFFSETFROM:+0100
TZOFFSETTO:+0200
TZNAME:CEST
DTSTART:20260329T010000
END:DAYLIGHT
BEGIN:STANDARD
TZOFFSETFROM:+0200
TZOFFSETTO:+0100
TZNAME:CET
DTSTART:20261025T010000
END:STANDARD
BEGIN:DAYLIGHT
TZOFFSETFROM:+0100
TZOFFSETTO:+0200
TZNAME:CEST
DTSTART:20270328T010000
END:DAYLIGHT
BEGIN:STANDARD
TZOFFSETFROM:+0200
TZOFFSETTO:+0100
TZNAME:CET
DTSTART:20271031T010000
END:STANDARD
END:VTIMEZONE
BEGIN:VEVENT
DTSTART;TZID=Europe/Zurich:20260428T083000
DTEND;TZID=Europe/Zurich:20260428T120000
DTSTAMP:20260421T184806
CREATED:20250708T093010Z
LAST-MODIFIED:20260421T161331Z
UID:10000349-1777365000-1777377600@www.ritzy.ch
SUMMARY:Outlook effizient nutzen
DESCRIPTION:E-Mail sind eine digitale Hauptkommunikation im Unternehmen. Jeder Büromitarbeiter führt geschäftliche Korrespondenz und die elektronischen Postfächer sind gut gefüllt. Rechtliche und betriebswirtschaftliche Anforderungen verlangen ein strukturiertes Dokumentenmanagement und eine effektive\, sichere E-Mail-Kommunikation. \nUnterrichtsort : HES-SO Wallis\, Standort Visp (Pflanzenstrasse 6)\, oder Standort Sierre (Techno-Pôle 3)\, alternativ auch in den Räumlichkeiten der jeweiligen Firma vor Ort.
URL:https://www.ritzy.ch/event/outlook-effizient-nutzen/
LOCATION:Visp HES-SO\, Pflanzettastrasse 6\, 3930 Visp\, Switzerland
CATEGORIES:Informatique
ATTACH;FMTTYPE=image/png:https://www.ritzy.ch/wp-content/uploads/2025/07/Outlook-filter.png
END:VEVENT
END:VCALENDAR