BEGIN:VCALENDAR
VERSION:2.0
PRODID:-//ritzy* - ECPv6.15.16//NONSGML v1.0//EN
CALSCALE:GREGORIAN
METHOD:PUBLISH
X-ORIGINAL-URL:https://www.ritzy.ch
X-WR-CALDESC:Veranstaltungen für ritzy*
REFRESH-INTERVAL;VALUE=DURATION:PT1H
X-Robots-Tag:noindex
X-PUBLISHED-TTL:PT1H
BEGIN:VTIMEZONE
TZID:Europe/Zurich
BEGIN:DAYLIGHT
TZOFFSETFROM:+0100
TZOFFSETTO:+0200
TZNAME:CEST
DTSTART:20250330T010000
END:DAYLIGHT
BEGIN:STANDARD
TZOFFSETFROM:+0200
TZOFFSETTO:+0100
TZNAME:CET
DTSTART:20251026T010000
END:STANDARD
BEGIN:DAYLIGHT
TZOFFSETFROM:+0100
TZOFFSETTO:+0200
TZNAME:CEST
DTSTART:20260329T010000
END:DAYLIGHT
BEGIN:STANDARD
TZOFFSETFROM:+0200
TZOFFSETTO:+0100
TZNAME:CET
DTSTART:20261025T010000
END:STANDARD
BEGIN:DAYLIGHT
TZOFFSETFROM:+0100
TZOFFSETTO:+0200
TZNAME:CEST
DTSTART:20270328T010000
END:DAYLIGHT
BEGIN:STANDARD
TZOFFSETFROM:+0200
TZOFFSETTO:+0100
TZNAME:CET
DTSTART:20271031T010000
END:STANDARD
END:VTIMEZONE
BEGIN:VEVENT
DTSTART;TZID=Europe/Zurich:20260518T090000
DTEND;TZID=Europe/Zurich:20260518T170000
DTSTAMP:20260421T202742
CREATED:20260106T162029Z
LAST-MODIFIED:20260421T181436Z
UID:10000501-1779094800-1779123600@www.ritzy.ch
SUMMARY:Kundenbindung und Treueprogramme
DESCRIPTION:In diesem eintägigen Seminar erfahren Sie alles über die Entwicklung und Implementierung von Kundenbindungs- und Treueprogrammen. Der Kurs umfasst sowohl Frontalunterricht als auch interaktive Webinare\, in denen Sie Methoden zur Erfolgsmessung und Umsetzung im Betrieb lernen. Ausserdem erhalten Sie wertvolle Informationen über Bewertungsmarketing und die Nutzung der ritzy* Victory APP\, um digitale Treueprogramme effektiv zu gestalten. \nDer Kurs besteht aus einem Tag Präsenzunterricht und dem Zugang zu 2 Webinaren : \n\nWebinar 1 : Erfolgsmessung und Anpassung von Treueprogrammen Methoden zur Evaluierung der Effektivität von Kundenbindungsmassnahmen\nWebinar 2 : Umsetzung von Treueprogrammen im Betrieb Integration von Bewertungsmarketing\, MenuKompass und Lieferdiensten
URL:https://www.ritzy.ch/course/kundenbindung-und-treueprogramme/
LOCATION:Visp\, Switzerland
CATEGORIES:Marketing
ATTACH;FMTTYPE=image/png:https://www.ritzy.ch/wp-content/uploads/2026/01/Treuerprogramme-filter.png
END:VEVENT
END:VCALENDAR