BEGIN:VCALENDAR
VERSION:2.0
PRODID:-//ritzy* - ECPv6.15.16//NONSGML v1.0//EN
CALSCALE:GREGORIAN
METHOD:PUBLISH
X-ORIGINAL-URL:https://www.ritzy.ch
X-WR-CALDESC:Veranstaltungen für ritzy*
REFRESH-INTERVAL;VALUE=DURATION:PT1H
X-Robots-Tag:noindex
X-PUBLISHED-TTL:PT1H
BEGIN:VTIMEZONE
TZID:Europe/Zurich
BEGIN:DAYLIGHT
TZOFFSETFROM:+0100
TZOFFSETTO:+0200
TZNAME:CEST
DTSTART:20250330T010000
END:DAYLIGHT
BEGIN:STANDARD
TZOFFSETFROM:+0200
TZOFFSETTO:+0100
TZNAME:CET
DTSTART:20251026T010000
END:STANDARD
BEGIN:DAYLIGHT
TZOFFSETFROM:+0100
TZOFFSETTO:+0200
TZNAME:CEST
DTSTART:20260329T010000
END:DAYLIGHT
BEGIN:STANDARD
TZOFFSETFROM:+0200
TZOFFSETTO:+0100
TZNAME:CET
DTSTART:20261025T010000
END:STANDARD
BEGIN:DAYLIGHT
TZOFFSETFROM:+0100
TZOFFSETTO:+0200
TZNAME:CEST
DTSTART:20270328T010000
END:DAYLIGHT
BEGIN:STANDARD
TZOFFSETFROM:+0200
TZOFFSETTO:+0100
TZNAME:CET
DTSTART:20271031T010000
END:STANDARD
END:VTIMEZONE
BEGIN:VEVENT
DTSTART;TZID=Europe/Zurich:20260522T090000
DTEND;TZID=Europe/Zurich:20260522T170000
DTSTAMP:20260421T202731
CREATED:20260106T172209Z
LAST-MODIFIED:20260421T181439Z
UID:10000506-1779440400-1779469200@www.ritzy.ch
SUMMARY:Social Media HUB
DESCRIPTION:Der Kurs Social Media Marketing von ritzy* richtet sich speziell an die Gastronomie\, Hotellerie\, Campingplätze\, Weinproduzenten und ähnliche Branchen. Dieser eintägige Kurs\, der zwei ergänzende Webinare beinhaltet\, zielt darauf ab\, nicht nur die vielfältigen Möglichkeiten des Social Marketings zu erkunden sondern auch den Teilnehmern zu ermöglichen\, die Zukunft mit arbeitserleichternden Plattformen optimal zu nutzen und eine erfolgreiche Marketingstrategie zu entwickeln. \nDer Kurs besteht aus einem Tag Präsenzunterricht und dem Zugang zu 2 Webinaren : \n\nWebinar 1  : Social Media Tools und Analysemöglichkeiten\nWebinar 2 : Content-Kalender-Management\n\nDie zusätzlichen Kosten für diese Ausbildung umfassen : \n\nEinen Zugang zum Smart Marketing Hub (User-Konto 2 Jahren)
URL:https://www.ritzy.ch/course/social-media-marketing/
LOCATION:Visp\, Switzerland
CATEGORIES:Marketing
ATTACH;FMTTYPE=image/png:https://www.ritzy.ch/wp-content/uploads/2026/01/social_media-filter.png
END:VEVENT
END:VCALENDAR