BEGIN:VCALENDAR
VERSION:2.0
PRODID:-//ritzy* - ECPv6.15.16//NONSGML v1.0//EN
CALSCALE:GREGORIAN
METHOD:PUBLISH
X-WR-CALNAME:ritzy*
X-ORIGINAL-URL:https://www.ritzy.ch
X-WR-CALDESC:Veranstaltungen für ritzy*
REFRESH-INTERVAL;VALUE=DURATION:PT1H
X-Robots-Tag:noindex
X-PUBLISHED-TTL:PT1H
BEGIN:VTIMEZONE
TZID:Europe/Zurich
BEGIN:DAYLIGHT
TZOFFSETFROM:+0100
TZOFFSETTO:+0200
TZNAME:CEST
DTSTART:20250330T010000
END:DAYLIGHT
BEGIN:STANDARD
TZOFFSETFROM:+0200
TZOFFSETTO:+0100
TZNAME:CET
DTSTART:20251026T010000
END:STANDARD
BEGIN:DAYLIGHT
TZOFFSETFROM:+0100
TZOFFSETTO:+0200
TZNAME:CEST
DTSTART:20260329T010000
END:DAYLIGHT
BEGIN:STANDARD
TZOFFSETFROM:+0200
TZOFFSETTO:+0100
TZNAME:CET
DTSTART:20261025T010000
END:STANDARD
BEGIN:DAYLIGHT
TZOFFSETFROM:+0100
TZOFFSETTO:+0200
TZNAME:CEST
DTSTART:20270328T010000
END:DAYLIGHT
BEGIN:STANDARD
TZOFFSETFROM:+0200
TZOFFSETTO:+0100
TZNAME:CET
DTSTART:20271031T010000
END:STANDARD
END:VTIMEZONE
BEGIN:VEVENT
DTSTART;TZID=Europe/Zurich:20260601T083000
DTEND;TZID=Europe/Zurich:20260601T120000
DTSTAMP:20260421T214658
CREATED:20260421T081735Z
LAST-MODIFIED:20260421T191705Z
UID:10000612-1780302600-1780315200@www.ritzy.ch
SUMMARY:Generative KI im Hotelalltag
DESCRIPTION:In diesem ersten Halbtag tauchen wir tief in die Welt der Generativen KI (LLMs wie ChatGPT\, Gemini\, Copilot sowie spezialisierte Media-Tools) ein. Wir zeigen nicht nur die Theorie\, sondern wie diese Technologien ab morgen früh direkt im Hotelbetrieb eingesetzt werden\, um wertvolle Zeit zu gewinnen und die Qualität zu steigern.
URL:https://www.ritzy.ch/course/generative-ki-im-hotelalltag/
LOCATION:Zermatt\, Switzerland
CATEGORIES:Marketing
ATTACH;FMTTYPE=image/png:https://www.ritzy.ch/wp-content/uploads/2026/04/Prompt_IA-filter-1.png
END:VEVENT
BEGIN:VEVENT
DTSTART;TZID=Europe/Zurich:20260601T090000
DTEND;TZID=Europe/Zurich:20260601T130000
DTSTAMP:20260421T214658
CREATED:20260106T082231Z
LAST-MODIFIED:20260421T191704Z
UID:10000482-1780304400-1780318800@www.ritzy.ch
SUMMARY:Sensibilisierung Bettwanzen
DESCRIPTION:Niemand ist vor der Erscheinung dieses schädlichen Insekts sicher\, dsa sich nach seiner Andsiedlung schnell vemehrt. Schützen Sie Ihr Kunden\, Ihe Gaststätte und Ihre Mitarbeiter/Kollegen\, indem Sie die richtigen Massnahmen ergreifen\, um die Ausbreitung des Insekts sowohl an Ihrem Arbeitsplatz als auch im privaten Bereich zu verhindern.
URL:https://www.ritzy.ch/course/sensibilisierung-bettwanzen/
LOCATION:Visp\, Saal HES SO\, Bahnhofplatz 1b\, 3930 Visp\, Switzerland
CATEGORIES:Sicherheit & Hygiene
ATTACH;FMTTYPE=image/png:https://www.ritzy.ch/wp-content/uploads/2026/01/Punaises_filter-1.png
END:VEVENT
BEGIN:VEVENT
DTSTART;TZID=Europe/Zurich:20260601T090000
DTEND;TZID=Europe/Zurich:20260601T170000
DTSTAMP:20260421T214658
CREATED:20260106T172218Z
LAST-MODIFIED:20260421T191704Z
UID:10000507-1780304400-1780333200@www.ritzy.ch
SUMMARY:Verkaufsstrategien
DESCRIPTION:In diesem Seminar lernen Sie effektive Verkaufsstrategien\, die speziell auf die Gastronomie und Hotellerie ausgerichtet sind. Der Fokus liegt auf Upselling-Techniken\, Cross-Selling-Strategien und der Schulung des Vertriebsteams. Sie erhalten wertvolle Werkzeuge und Vorlagen für den direkten Einsatz sowie Strategien zur Einwandbehandlung\, um aus Interessenten treue Kunden zu machen. \nDer Kurs besteht aus einem Tag Präsenzunterricht und dem Zugang zu 2 Webinaren.
URL:https://www.ritzy.ch/course/verkaufsstrategien/
LOCATION:Visp\, Switzerland
CATEGORIES:Marketing
ATTACH;FMTTYPE=image/png:https://www.ritzy.ch/wp-content/uploads/2026/01/Verkaufsstrategie.png
END:VEVENT
END:VCALENDAR