BEGIN:VCALENDAR
VERSION:2.0
PRODID:-//ritzy* - ECPv6.15.16//NONSGML v1.0//EN
CALSCALE:GREGORIAN
METHOD:PUBLISH
X-WR-CALNAME:ritzy*
X-ORIGINAL-URL:https://www.ritzy.ch
X-WR-CALDESC:Veranstaltungen für ritzy*
REFRESH-INTERVAL;VALUE=DURATION:PT1H
X-Robots-Tag:noindex
X-PUBLISHED-TTL:PT1H
BEGIN:VTIMEZONE
TZID:Europe/Zurich
BEGIN:DAYLIGHT
TZOFFSETFROM:+0100
TZOFFSETTO:+0200
TZNAME:CEST
DTSTART:20250330T010000
END:DAYLIGHT
BEGIN:STANDARD
TZOFFSETFROM:+0200
TZOFFSETTO:+0100
TZNAME:CET
DTSTART:20251026T010000
END:STANDARD
BEGIN:DAYLIGHT
TZOFFSETFROM:+0100
TZOFFSETTO:+0200
TZNAME:CEST
DTSTART:20260329T010000
END:DAYLIGHT
BEGIN:STANDARD
TZOFFSETFROM:+0200
TZOFFSETTO:+0100
TZNAME:CET
DTSTART:20261025T010000
END:STANDARD
BEGIN:DAYLIGHT
TZOFFSETFROM:+0100
TZOFFSETTO:+0200
TZNAME:CEST
DTSTART:20270328T010000
END:DAYLIGHT
BEGIN:STANDARD
TZOFFSETFROM:+0200
TZOFFSETTO:+0100
TZNAME:CET
DTSTART:20271031T010000
END:STANDARD
END:VTIMEZONE
BEGIN:VEVENT
DTSTART;TZID=Europe/Zurich:20260907T090000
DTEND;TZID=Europe/Zurich:20260907T170000
DTSTAMP:20260422T022923
CREATED:20260106T172311Z
LAST-MODIFIED:20260422T001806Z
UID:10000511-1788771600-1788800400@www.ritzy.ch
SUMMARY:Local Marketing mit Social Media
DESCRIPTION:In diesem Tagestraining lernen Sie effektive Strategien für das lokale Marketing mithilfe von Social Media. Der Fokus liegt auf dem Aufbau und der Pflege lokaler Partnerschaften sowie der gezielten Ansprache Ihrer Zielgruppe durch lokale SEO und Marketingaktionen. Zudem erhalten Sie wertvolle Werkzeuge und Ressourcen\, um Ihre Marketingstrategien erfolgreich umzusetzen. \nDer Kurs umfasst einen Tag Präsenzunterricht und den Zugang zu zwei Webinaren. \n\nWebinar 1 : Lokale SEO\nWebinar 2 : Gezielte Kampagnen
URL:https://www.ritzy.ch/course/local-marketing-mit-social-media/
LOCATION:Visp\, Switzerland
CATEGORIES:Marketing
ATTACH;FMTTYPE=image/png:https://www.ritzy.ch/wp-content/uploads/2026/01/Lokal-filter-1.png
END:VEVENT
END:VCALENDAR