BEGIN:VCALENDAR
VERSION:2.0
PRODID:-//ritzy* - ECPv6.15.16//NONSGML v1.0//EN
CALSCALE:GREGORIAN
METHOD:PUBLISH
X-WR-CALNAME:ritzy*
X-ORIGINAL-URL:https://www.ritzy.ch
X-WR-CALDESC:Veranstaltungen für ritzy*
REFRESH-INTERVAL;VALUE=DURATION:PT1H
X-Robots-Tag:noindex
X-PUBLISHED-TTL:PT1H
BEGIN:VTIMEZONE
TZID:Europe/Zurich
BEGIN:DAYLIGHT
TZOFFSETFROM:+0100
TZOFFSETTO:+0200
TZNAME:CEST
DTSTART:20250330T010000
END:DAYLIGHT
BEGIN:STANDARD
TZOFFSETFROM:+0200
TZOFFSETTO:+0100
TZNAME:CET
DTSTART:20251026T010000
END:STANDARD
BEGIN:DAYLIGHT
TZOFFSETFROM:+0100
TZOFFSETTO:+0200
TZNAME:CEST
DTSTART:20260329T010000
END:DAYLIGHT
BEGIN:STANDARD
TZOFFSETFROM:+0200
TZOFFSETTO:+0100
TZNAME:CET
DTSTART:20261025T010000
END:STANDARD
BEGIN:DAYLIGHT
TZOFFSETFROM:+0100
TZOFFSETTO:+0200
TZNAME:CEST
DTSTART:20270328T010000
END:DAYLIGHT
BEGIN:STANDARD
TZOFFSETFROM:+0200
TZOFFSETTO:+0100
TZNAME:CET
DTSTART:20271031T010000
END:STANDARD
END:VTIMEZONE
BEGIN:VEVENT
DTSTART;TZID=Europe/Zurich:20260914T090000
DTEND;TZID=Europe/Zurich:20260915T170000
DTSTAMP:20260422T023046
CREATED:20260106T152324Z
LAST-MODIFIED:20260422T001806Z
UID:10000498-1789376400-1789491600@www.ritzy.ch
SUMMARY:SOPHIE KI – Der Kurs für Gastronomen\, Touristiker & Hoteliers
DESCRIPTION:In diesem zweitägigen Seminar erhalten wir einen praxisnahen Überblick über den strategischen Einsatz von Künstlicher Intelligenz im Betrieb. Gemeinsam erarbeiten wir die Grundlagen für eine klare digitale Identität\, definieren Ziele für den KI-Einsatz und identifizieren sinnvolle Anwendungsmöglichkeiten entlang der Guest Journey.
URL:https://www.ritzy.ch/course/sophie-ki-der-kurs-fuer-gastronomen-touristiker-hoteliers/
LOCATION:Visp\, Switzerland
CATEGORIES:Marketing
ATTACH;FMTTYPE=image/png:https://www.ritzy.ch/wp-content/uploads/2026/01/IA-1.png
END:VEVENT
END:VCALENDAR