BEGIN:VCALENDAR
VERSION:2.0
PRODID:-//ritzy* - ECPv6.15.16//NONSGML v1.0//EN
CALSCALE:GREGORIAN
METHOD:PUBLISH
X-WR-CALNAME:ritzy*
X-ORIGINAL-URL:https://www.ritzy.ch/fr/
X-WR-CALDESC:Évènements pour ritzy*
REFRESH-INTERVAL;VALUE=DURATION:PT1H
X-Robots-Tag:noindex
X-PUBLISHED-TTL:PT1H
BEGIN:VTIMEZONE
TZID:Europe/Zurich
BEGIN:DAYLIGHT
TZOFFSETFROM:+0100
TZOFFSETTO:+0200
TZNAME:CEST
DTSTART:20250330T010000
END:DAYLIGHT
BEGIN:STANDARD
TZOFFSETFROM:+0200
TZOFFSETTO:+0100
TZNAME:CET
DTSTART:20251026T010000
END:STANDARD
BEGIN:DAYLIGHT
TZOFFSETFROM:+0100
TZOFFSETTO:+0200
TZNAME:CEST
DTSTART:20260329T010000
END:DAYLIGHT
BEGIN:STANDARD
TZOFFSETFROM:+0200
TZOFFSETTO:+0100
TZNAME:CET
DTSTART:20261025T010000
END:STANDARD
BEGIN:DAYLIGHT
TZOFFSETFROM:+0100
TZOFFSETTO:+0200
TZNAME:CEST
DTSTART:20270328T010000
END:DAYLIGHT
BEGIN:STANDARD
TZOFFSETFROM:+0200
TZOFFSETTO:+0100
TZNAME:CET
DTSTART:20271031T010000
END:STANDARD
END:VTIMEZONE
BEGIN:VEVENT
DTSTART;TZID=Europe/Zurich:20260505T090000
DTEND;TZID=Europe/Zurich:20260505T170000
DTSTAMP:20260421T225343
CREATED:20251023T150750Z
LAST-MODIFIED:20260421T201500Z
UID:10000416-1777971600-1778000400@www.ritzy.ch
SUMMARY:Vendre ou donner envie d'acheter
DESCRIPTION:Focalisez vos ventes sur la valeur ajoutée des prestations offertes plutôt que de participer à la guerre des prix!\nComment présenter subtilement les différences et avantages du produit ou service tout en tenant compte des besoins et attentes de vos clients? \nApprenez la bonne maîtrise des outils de vente\, la gestion des objections\, mais aussi les mots qui font tilt\, pour vous assurer des ventes réussies.
URL:https://www.ritzy.ch/fr/course/vendre-ou-donner-envie-dacheter/
LOCATION:Hôtel Porte d’Octodure\, Rte du Grand-Saint-Bernard 5\, 1921 Martigny-Croix\, Switzerland
CATEGORIES:Kundenbeziehung
ATTACH;FMTTYPE=image/png:https://www.ritzy.ch/wp-content/uploads/2025/10/Communication_filter.png
END:VEVENT
BEGIN:VEVENT
DTSTART;TZID=Europe/Zurich:20260505T133000
DTEND;TZID=Europe/Zurich:20260505T170000
DTSTAMP:20260421T225343
CREATED:20251209T131151Z
LAST-MODIFIED:20260421T201501Z
UID:10000469-1777987800-1778000400@www.ritzy.ch
SUMMARY:Microsoft 365 - Forms\, Planner\, Sway\, Stream
DESCRIPTION:Cette formation est destinée à donner des bases solides sur 4 applications fournies avec la version Online d’Office 365 : \n\nPlanner\, qui permet de gérer des tâches.\nForms\, qui permet de créer et de gérer des questionnaires ou des formulaires.\nSway\, qui permet de créer des présentations.\nStream\, qui permet de partager des vidéos dans des chaînes d’entreprises.
URL:https://www.ritzy.ch/fr/course/office-365-forms-planner-sway-stream/
LOCATION:TechnoArk\, Rue de Technopôle 10\, 3960 Sierre\, Switzerland
CATEGORIES:Informatique
ATTACH;FMTTYPE=image/png:https://www.ritzy.ch/wp-content/uploads/2025/12/Forms-filter1.png
END:VEVENT
END:VCALENDAR