BEGIN:VCALENDAR
VERSION:2.0
PRODID:-//ritzy* - ECPv6.15.16//NONSGML v1.0//EN
CALSCALE:GREGORIAN
METHOD:PUBLISH
X-ORIGINAL-URL:https://www.ritzy.ch/fr/
X-WR-CALDESC:Évènements pour ritzy*
REFRESH-INTERVAL;VALUE=DURATION:PT1H
X-Robots-Tag:noindex
X-PUBLISHED-TTL:PT1H
BEGIN:VTIMEZONE
TZID:Europe/Zurich
BEGIN:DAYLIGHT
TZOFFSETFROM:+0100
TZOFFSETTO:+0200
TZNAME:CEST
DTSTART:20250330T010000
END:DAYLIGHT
BEGIN:STANDARD
TZOFFSETFROM:+0200
TZOFFSETTO:+0100
TZNAME:CET
DTSTART:20251026T010000
END:STANDARD
BEGIN:DAYLIGHT
TZOFFSETFROM:+0100
TZOFFSETTO:+0200
TZNAME:CEST
DTSTART:20260329T010000
END:DAYLIGHT
BEGIN:STANDARD
TZOFFSETFROM:+0200
TZOFFSETTO:+0100
TZNAME:CET
DTSTART:20261025T010000
END:STANDARD
BEGIN:DAYLIGHT
TZOFFSETFROM:+0100
TZOFFSETTO:+0200
TZNAME:CEST
DTSTART:20270328T010000
END:DAYLIGHT
BEGIN:STANDARD
TZOFFSETFROM:+0200
TZOFFSETTO:+0100
TZNAME:CET
DTSTART:20271031T010000
END:STANDARD
END:VTIMEZONE
BEGIN:VEVENT
DTSTART;TZID=Europe/Zurich:20260507T083000
DTEND;TZID=Europe/Zurich:20260507T120000
DTSTAMP:20260422T021551
CREATED:20260218T041738Z
LAST-MODIFIED:20260421T231442Z
UID:10000564-1778142600-1778155200@www.ritzy.ch
SUMMARY:Outlook - Utiliser efficacement
DESCRIPTION:Ce cours vous offre l’occasion de développer une maîtrise complète des outils indispensables pour organiser votre travail au quotidien. Vous apprendrez à gérer efficacement votre messagerie\, structurer vos contacts\, suivre l’avancement de vos tâches et planifier vos activités professionnelles.Grâce à des méthodes concrètes et des conseils pratiques\, vous découvrirez comment améliorer votre gestion du temps\, optimiser vos priorités et gagner en efficacité. À l’issue de la formation\, vous disposerez d’une organisation plus fluide et d’une meilleure vision de votre planning\, pour travailler avec plus de sérénité et de productivité.
URL:https://www.ritzy.ch/fr/course/outlook-utiliser-efficacement/
LOCATION:TechnoArk\, Rue de Technopôle 10\, 3960 Sierre\, Switzerland
CATEGORIES:Informatique
ATTACH;FMTTYPE=image/png:https://www.ritzy.ch/wp-content/uploads/2026/02/Outlook.png
END:VEVENT
END:VCALENDAR